BEGIN:VCALENDAR
VERSION:2.0
PRODID:-//eventon.com NONSGML v1.0//EN
CALSCALE:GREGORIAN
METHOD:PUBLISH
BEGIN:VEVENT
UID:69e4ec0f87f43
DTSTAMP:20260419T165159
DTSTART:20250916
DTEND:20250917
TZID:UTC
LOCATION:
SUMMARY:MartinServera mässa - Jönköping
DESCRIPTION:MartinServera mässa - Jönköping\nhttps://vaggarokeri.se/events/martinservera-massa-jonkoping/
URL:https://vaggarokeri.se/events/martinservera-massa-jonkoping/
END:VEVENT
END:VCALENDAR